BEGIN:VCALENDAR
VERSION:2.0
PRODID:-//wp-events-plugin.com//6.4.6.4//EN
BEGIN:VEVENT
UID:599@bayhanmuzik.com
DTSTART;TZID=Europe/Istanbul:20260516T210000
DTEND;TZID=Europe/Istanbul:20260516T230000
DTSTAMP:20260123T102219Z
URL:https://www.bayhanmuzik.com/etkinlikler/teoman-urfa-orpheus-acik-hava-
 amfi-sahnesi/
SUMMARY:Teoman | Urfa Orpheus Açık Hava Amfi Sahnesi
DESCRIPTION:Teoman\, Bayhan Prodüksiyon organizasyonuyla 16 Mayıs 2026 Cu
 martesi akşamı Urfa Orpheus Açık Hava Amfi Sahnesi’nde sevenleriyle 
 buluşuyor. 
ATTACH;FMTTYPE=image/jpeg:https://www.bayhanmuzik.com/wp-content/uploads/2
 025/12/26112025144701-teoman_stadyum_passo_gorseli.jpg
CATEGORIES:Teoman
END:VEVENT
BEGIN:VTIMEZONE
TZID:Europe/Istanbul
X-LIC-LOCATION:Europe/Istanbul
BEGIN:STANDARD
DTSTART:20250516T210000
TZOFFSETFROM:+0300
TZOFFSETTO:+0300
TZNAME:+03
END:STANDARD
END:VTIMEZONE
END:VCALENDAR