BEGIN:VCALENDAR
VERSION:2.0
PRODID:-//wp-events-plugin.com//6.4.6.4//EN
BEGIN:VEVENT
UID:670@bayhanmuzik.com
DTSTART;TZID=Europe/Istanbul:20260423T210000
DTEND;TZID=Europe/Istanbul:20260423T230000
DTSTAMP:20260422T103154Z
URL:https://www.bayhanmuzik.com/etkinlikler/teoman-sivas-cumhuriyet-univer
 sitesi-merkez-kampusu-4-eylul-kultur-merkezi-3/
SUMMARY:Teoman | Sivas Cumhuriyet Üniversitesi Merkez Kampüsü 4 Eylül K
 ültür Merkezi
DESCRIPTION:Teoman\, Bayhan Müzik organizasyonuyla   23 Nisan 2026 Perş
 embe akşamı Sivas Cumhuriyet Üniversitesi Merkez Kampüsü 4 Eylül Kü
 ltür Merkezi Sahnesi'nde.
ATTACH;FMTTYPE=image/jpeg:https://www.bayhanmuzik.com/wp-content/uploads/2
 025/12/26112025144701-teoman_stadyum_passo_gorseli.jpg
CATEGORIES:Teoman
END:VEVENT
BEGIN:VTIMEZONE
TZID:Europe/Istanbul
X-LIC-LOCATION:Europe/Istanbul
BEGIN:STANDARD
DTSTART:20250423T210000
TZOFFSETFROM:+0300
TZOFFSETTO:+0300
TZNAME:+03
END:STANDARD
END:VTIMEZONE
END:VCALENDAR