BEGIN:VCALENDAR
VERSION:2.0
PRODID:-//wp-events-plugin.com//6.4.6.4//EN
BEGIN:VEVENT
UID:584@bayhanmuzik.com
DTSTART;TZID=Europe/Istanbul:20260603T210000
DTEND;TZID=Europe/Istanbul:20260603T230000
DTSTAMP:20260108T122019Z
URL:https://www.bayhanmuzik.com/etkinlikler/teoman-giresun-cotanak-spor-ko
 mpleksi/
SUMMARY:Teoman | Giresun Çotanak Spor Kompleksi
DESCRIPTION:Teoman\, 03 Haziran 2026 Çarşamba akşamı Giresun Çotanak S
 por Kompleksi’nde sahnede. Paramparça’dan bugüne\, hit parçalarıyl
 a daha önce görmediğiniz bir şovla hayranlarıyla buluşacak.
ATTACH;FMTTYPE=image/jpeg:https://www.bayhanmuzik.com/wp-content/uploads/2
 025/12/26112025144701-teoman_stadyum_passo_gorseli.jpg
CATEGORIES:Teoman
END:VEVENT
BEGIN:VTIMEZONE
TZID:Europe/Istanbul
X-LIC-LOCATION:Europe/Istanbul
BEGIN:STANDARD
DTSTART:20250603T210000
TZOFFSETFROM:+0300
TZOFFSETTO:+0300
TZNAME:+03
END:STANDARD
END:VTIMEZONE
END:VCALENDAR