BEGIN:VCALENDAR
VERSION:2.0
PRODID:-//wp-events-plugin.com//6.4.6.4//EN
BEGIN:VEVENT
UID:581@bayhanmuzik.com
DTSTART;TZID=Europe/Istanbul:20260515T210000
DTEND;TZID=Europe/Istanbul:20260515T230000
DTSTAMP:20260108T120414Z
URL:https://www.bayhanmuzik.com/etkinlikler/teoman-adana-cukurova-universi
 tesi-acik-hava-tiyatrosu/
SUMMARY:Teoman | Adana Çukurova Üniversitesi Açık Hava Tiyatrosu
DESCRIPTION:Bayhan Müzik Organizasyonuyla\, Teoman 15 Mayıs 2026 Cuma ak
 şamı Çukurova Üniversitesi Amfi Tiyatro sahnesi'nde. 
ATTACH;FMTTYPE=image/jpeg:https://www.bayhanmuzik.com/wp-content/uploads/2
 025/12/26112025144701-teoman_stadyum_passo_gorseli.jpg
CATEGORIES:Teoman
END:VEVENT
BEGIN:VTIMEZONE
TZID:Europe/Istanbul
X-LIC-LOCATION:Europe/Istanbul
BEGIN:STANDARD
DTSTART:20250515T210000
TZOFFSETFROM:+0300
TZOFFSETTO:+0300
TZNAME:+03
END:STANDARD
END:VTIMEZONE
END:VCALENDAR