BEGIN:VCALENDAR
VERSION:2.0
PRODID:-//wp-events-plugin.com//6.4.6.4//EN
BEGIN:VEVENT
UID:541@bayhanmuzik.com
DTSTART;TZID=Europe/Istanbul:20260612T210000
DTEND;TZID=Europe/Istanbul:20260612T230000
DTSTAMP:20251014T112755Z
URL:https://www.bayhanmuzik.com/etkinlikler/tan-tasci-istanbul-besiktas-tu
 pras-stadyumu/
SUMMARY:Tan Taşçı | İstanbul Beşiktaş Tüpraş Stadyumu
DESCRIPTION:Tan Taşçı’dan “Sende De Benden Var” Albümü ve Stadyu
 m Konseri Müjdesi!
ATTACH;FMTTYPE=image/jpeg:https://www.bayhanmuzik.com/wp-content/uploads/2
 025/10/24092025154748-passo_grup_gorseli_1.jpg
CATEGORIES:Tan Taşçı
END:VEVENT
BEGIN:VTIMEZONE
TZID:Europe/Istanbul
X-LIC-LOCATION:Europe/Istanbul
BEGIN:STANDARD
DTSTART:20250612T210000
TZOFFSETFROM:+0300
TZOFFSETTO:+0300
TZNAME:+03
END:STANDARD
END:VTIMEZONE
END:VCALENDAR