BEGIN:VCALENDAR
VERSION:2.0
PRODID:-//wp-events-plugin.com//6.4.6.4//EN
BEGIN:VEVENT
UID:576@bayhanmuzik.com
DTSTART;TZID=Europe/Istanbul:20260606T210000
DTEND;TZID=Europe/Istanbul:20260606T230000
DTSTAMP:20251231T105627Z
URL:https://www.bayhanmuzik.com/etkinlikler/tan-tasci-giresun-cotanak-stad
 yumu-2/
SUMMARY:Tan Taşçı | Giresun Çotanak Stadyumu
DESCRIPTION:Tan Taşçı’dan “Sende De Benden Var” Albümü ve Giresu
 n Stadyum Konseri Müjdesi
ATTACH;FMTTYPE=image/jpeg:https://www.bayhanmuzik.com/wp-content/uploads/2
 025/12/26122025142834-tan_tasci_passo_gorseli_2.jpg
CATEGORIES:Tan Taşçı
END:VEVENT
BEGIN:VTIMEZONE
TZID:Europe/Istanbul
X-LIC-LOCATION:Europe/Istanbul
BEGIN:STANDARD
DTSTART:20250606T210000
TZOFFSETFROM:+0300
TZOFFSETTO:+0300
TZNAME:+03
END:STANDARD
END:VTIMEZONE
END:VCALENDAR