BEGIN:VCALENDAR
VERSION:2.0
PRODID:-//wp-events-plugin.com//6.4.6.4//EN
BEGIN:VEVENT
UID:611@bayhanmuzik.com
DTSTART;TZID=Europe/Istanbul:20260712T213000
DTEND;TZID=Europe/Istanbul:20260712T233000
DTSTAMP:20260212T093036Z
URL:https://www.bayhanmuzik.com/etkinlikler/pantera-istanbul-atakoy-marina
 -arena/
SUMMARY:PANTERA | İstanbul Ataköy Marina Arena
DESCRIPTION:Pantera\, ilk kez Türkiye’de!
ATTACH;FMTTYPE=image/jpeg:https://www.bayhanmuzik.com/wp-content/uploads/2
 026/02/10022026131259-pantera_1920_1080_passo.jpg
CATEGORIES:PANTERA
END:VEVENT
BEGIN:VTIMEZONE
TZID:Europe/Istanbul
X-LIC-LOCATION:Europe/Istanbul
BEGIN:STANDARD
DTSTART:20250712T213000
TZOFFSETFROM:+0300
TZOFFSETTO:+0300
TZNAME:+03
END:STANDARD
END:VTIMEZONE
END:VCALENDAR