BEGIN:VCALENDAR
VERSION:2.0
PRODID:-//wp-events-plugin.com//6.4.6.4//EN
BEGIN:VEVENT
UID:665@bayhanmuzik.com
DTSTART;TZID=Europe/Istanbul:20260609T210000
DTEND;TZID=Europe/Istanbul:20260609T230000
DTSTAMP:20260412T110040Z
URL:https://www.bayhanmuzik.com/etkinlikler/model-eskisehir-kentpark-yeni-
 festival-alani/
SUMMARY:MODEL | Eskişehir Kentpark Yeni Festival Alanı
DESCRIPTION:Türk alternatif rock sahnesinin efsane gruplarından MODEL\, 1
 0 yıl aradan sonra sürpriz bir turne ile geri dönüyor.
ATTACH;FMTTYPE=image/jpeg:https://www.bayhanmuzik.com/wp-content/uploads/2
 026/03/13032026103751-model_1920_1080_jpg.jpeg
CATEGORIES:MODEL
END:VEVENT
BEGIN:VTIMEZONE
TZID:Europe/Istanbul
X-LIC-LOCATION:Europe/Istanbul
BEGIN:STANDARD
DTSTART:20250609T210000
TZOFFSETFROM:+0300
TZOFFSETTO:+0300
TZNAME:+03
END:STANDARD
END:VTIMEZONE
END:VCALENDAR