BEGIN:VCALENDAR
VERSION:2.0
PRODID:-//wp-events-plugin.com//6.4.6.4//EN
BEGIN:VEVENT
UID:664@bayhanmuzik.com
DTSTART;TZID=Europe/Istanbul:20261115T210000
DTEND;TZID=Europe/Istanbul:20261115T230000
DTSTAMP:20260412T105640Z
URL:https://www.bayhanmuzik.com/etkinlikler/koray-avci-mersin-yenisehir-be
 lediyesi-ataturk-kultur-merkezi/
SUMMARY:Koray Avcı | Mersin Yenişehir Belediyesi Atatürk Kültür Merkez
 i
DESCRIPTION:Duygusal yorumları ve sahnedeki samimi enerjisiyle dinleyicisi
 nin kalbinde özel bir yere sahip olan Koray Avcı\, Mersin’de sahne al
 ıyor.
ATTACH;FMTTYPE=image/jpeg:https://www.bayhanmuzik.com/wp-content/uploads/2
 026/04/koray-avci-pp.jpg
CATEGORIES:Koray Avcı
END:VEVENT
BEGIN:VTIMEZONE
TZID:Europe/Istanbul
X-LIC-LOCATION:Europe/Istanbul
BEGIN:STANDARD
DTSTART:20251115T210000
TZOFFSETFROM:+0300
TZOFFSETTO:+0300
TZNAME:+03
END:STANDARD
END:VTIMEZONE
END:VCALENDAR