BEGIN:VCALENDAR
VERSION:2.0
PRODID:-//wp-events-plugin.com//6.4.6.4//EN
BEGIN:VEVENT
UID:661@bayhanmuzik.com
DTSTART;TZID=Europe/Istanbul:20260919T210000
DTEND;TZID=Europe/Istanbul:20260919T230000
DTSTAMP:20260412T105058Z
URL:https://www.bayhanmuzik.com/etkinlikler/koray-avci-konya-selcuklu-kong
 re-merkezi/
SUMMARY:Koray Avcı | Konya Selçuklu Kongre Merkezi
DESCRIPTION:Güçlü sesi ve etkileyici yorumuyla büyük beğeni toplayan 
 Koray Avcı\, Konya’da müzikseverlerle buluşuyor.
ATTACH;FMTTYPE=image/jpeg:https://www.bayhanmuzik.com/wp-content/uploads/2
 026/04/koray-avci-pp.jpg
CATEGORIES:Koray Avcı
END:VEVENT
BEGIN:VTIMEZONE
TZID:Europe/Istanbul
X-LIC-LOCATION:Europe/Istanbul
BEGIN:STANDARD
DTSTART:20250919T210000
TZOFFSETFROM:+0300
TZOFFSETTO:+0300
TZNAME:+03
END:STANDARD
END:VTIMEZONE
END:VCALENDAR