BEGIN:VCALENDAR
VERSION:2.0
PRODID:-//wp-events-plugin.com//6.4.6.4//EN
BEGIN:VEVENT
UID:662@bayhanmuzik.com
DTSTART;TZID=Europe/Istanbul:20261101T210000
DTEND;TZID=Europe/Istanbul:20261101T230000
DTSTAMP:20260412T105226Z
URL:https://www.bayhanmuzik.com/etkinlikler/koray-avci-antalya-acikhava/
SUMMARY:Koray Avcı | Antalya Açıkhava
DESCRIPTION:Sevilen sanatçı Koray Avcı\, etkileyici sahne performansı v
 e güçlü yorumuyla Antalya’da dinleyicisiyle buluşuyor.
ATTACH;FMTTYPE=image/jpeg:https://www.bayhanmuzik.com/wp-content/uploads/2
 026/04/koray-avci-pp.jpg
CATEGORIES:Koray Avcı
END:VEVENT
BEGIN:VTIMEZONE
TZID:Europe/Istanbul
X-LIC-LOCATION:Europe/Istanbul
BEGIN:STANDARD
DTSTART:20251101T210000
TZOFFSETFROM:+0300
TZOFFSETTO:+0300
TZNAME:+03
END:STANDARD
END:VTIMEZONE
END:VCALENDAR