BEGIN:VCALENDAR
VERSION:2.0
PRODID:-//wp-events-plugin.com//6.4.6.4//EN
BEGIN:VEVENT
UID:663@bayhanmuzik.com
DTSTART;TZID=Europe/Istanbul:20261114T210000
DTEND;TZID=Europe/Istanbul:20261114T230000
DTSTAMP:20260412T105451Z
URL:https://www.bayhanmuzik.com/etkinlikler/koray-avci-ankara-congresium/
SUMMARY:Koray Avcı | Ankara Congresium
DESCRIPTION:Samimi tarzı ve güçlü sesiyle geniş kitlelere ulaşan Kora
 y Avcı\, Ankara’da sahne alıyor.
ATTACH;FMTTYPE=image/jpeg:https://www.bayhanmuzik.com/wp-content/uploads/2
 026/04/koray-avci-pp.jpg
CATEGORIES:Koray Avcı
END:VEVENT
BEGIN:VTIMEZONE
TZID:Europe/Istanbul
X-LIC-LOCATION:Europe/Istanbul
BEGIN:STANDARD
DTSTART:20251114T210000
TZOFFSETFROM:+0300
TZOFFSETTO:+0300
TZNAME:+03
END:STANDARD
END:VTIMEZONE
END:VCALENDAR