BEGIN:VCALENDAR
VERSION:2.0
PRODID:-//wp-events-plugin.com//6.4.6.4//EN
BEGIN:VEVENT
UID:660@bayhanmuzik.com
DTSTART;TZID=Europe/Istanbul:20260918T210000
DTEND;TZID=Europe/Istanbul:20260918T230000
DTSTAMP:20260412T104842Z
URL:https://www.bayhanmuzik.com/etkinlikler/koray-avci-adana-cukurova-univ
 ersitesi-acik-hava-tiyatrosu/
SUMMARY:Koray Avcı | Adana Çukurova Üniversitesi Açık Hava Tiyatrosu
DESCRIPTION:Duygusal yorumu ve sahnedeki güçlü enerjisiyle dinleyicisini
 n kalbinde özel bir yer edinen Koray Avcı\, Adana’da unutulmaz bir kon
 sere imza atmaya hazırlanıyor.
ATTACH;FMTTYPE=image/jpeg:https://www.bayhanmuzik.com/wp-content/uploads/2
 026/04/koray-avci-pp.jpg
CATEGORIES:Koray Avcı
END:VEVENT
BEGIN:VTIMEZONE
TZID:Europe/Istanbul
X-LIC-LOCATION:Europe/Istanbul
BEGIN:STANDARD
DTSTART:20250918T210000
TZOFFSETFROM:+0300
TZOFFSETTO:+0300
TZNAME:+03
END:STANDARD
END:VTIMEZONE
END:VCALENDAR