BEGIN:VCALENDAR
VERSION:2.0
PRODID:-//wp-events-plugin.com//6.4.6.4//EN
BEGIN:VEVENT
UID:643@bayhanmuzik.com
DTSTART;TZID=Europe/Istanbul:20260611T210000
DTEND;TZID=Europe/Istanbul:20260611T230000
DTSTAMP:20260324T090932Z
URL:https://www.bayhanmuzik.com/etkinlikler/gulsen-adana-cukurova-universi
 tesi-acik-hava-tiyatrosu/
SUMMARY:Gülşen | Adana Çukurova Üniversitesi Açık Hava Tiyatrosu
DESCRIPTION:Gülşen\, Bayhan Prodüksiyon organizasyonuyla 11 Haziran 2026
  Perşembe akşamı Adana Çukurova Üniversitesi Açık Hava Tiyatrosu'nd
 a sevenleriyle buluşuyor. 
ATTACH;FMTTYPE=image/jpeg:https://www.bayhanmuzik.com/wp-content/uploads/2
 025/07/Gulsen-Passo-Gorseli-1.jpg
CATEGORIES:Gülşen
END:VEVENT
BEGIN:VTIMEZONE
TZID:Europe/Istanbul
X-LIC-LOCATION:Europe/Istanbul
BEGIN:STANDARD
DTSTART:20250611T210000
TZOFFSETFROM:+0300
TZOFFSETTO:+0300
TZNAME:+03
END:STANDARD
END:VTIMEZONE
END:VCALENDAR