BEGIN:VCALENDAR
VERSION:2.0
PRODID:-//wp-events-plugin.com//6.4.6.4//EN
BEGIN:VEVENT
UID:573@bayhanmuzik.com
DTSTART;TZID=Europe/Istanbul:20260522T210000
DTEND;TZID=Europe/Istanbul:20260522T230000
DTSTAMP:20251231T104814Z
URL:https://www.bayhanmuzik.com/etkinlikler/funda-arar-kubat-senfonik-sams
 un-dogu-park-amfi-tiyatro/
SUMMARY:Funda Arar & Kubat Senfonik | Samsun Doğu Park Amfi Tiyatro
DESCRIPTION:Funda Arar & Kubat Senfonik\, Bayhan Müzik organizasyonuyla 22
  Mayıs 2026 Cuma akşamı\, Samsun Doğu Park Amfi Tiyatro’da müziksev
 erlerle buluşacak.
ATTACH;FMTTYPE=image/jpeg:https://www.bayhanmuzik.com/wp-content/uploads/2
 025/12/17122025160017-funda-kubat_passo_gorseli.jpg
CATEGORIES:Funda Arar,Kubat
END:VEVENT
BEGIN:VTIMEZONE
TZID:Europe/Istanbul
X-LIC-LOCATION:Europe/Istanbul
BEGIN:STANDARD
DTSTART:20250522T210000
TZOFFSETFROM:+0300
TZOFFSETTO:+0300
TZNAME:+03
END:STANDARD
END:VTIMEZONE
END:VCALENDAR