BEGIN:VCALENDAR
VERSION:2.0
PRODID:-//wp-events-plugin.com//6.4.6.4//EN
BEGIN:VEVENT
UID:620@bayhanmuzik.com
DTSTART;TZID=Europe/Istanbul:20260503T210000
DTEND;TZID=Europe/Istanbul:20260503T230000
DTSTAMP:20260218T071222Z
URL:https://www.bayhanmuzik.com/etkinlikler/funda-arar-kubat-senfonik-deni
 zli-acik-hava-tiyatrosu/
SUMMARY:Funda Arar & Kubat Senfonik | Denizli Açık Hava Tiyatrosu
DESCRIPTION:Funda Arar & Kubat Senfonik\, Bayhan Müzik organizasyonuyla 03
  Mayıs Pazar akşamı Denizli Açık Hava sahnesi'nde.
ATTACH;FMTTYPE=image/jpeg:https://www.bayhanmuzik.com/wp-content/uploads/2
 025/12/17122025160017-funda-kubat_passo_gorseli.jpg
CATEGORIES:Funda Arar,Kubat
END:VEVENT
BEGIN:VTIMEZONE
TZID:Europe/Istanbul
X-LIC-LOCATION:Europe/Istanbul
BEGIN:STANDARD
DTSTART:20250503T210000
TZOFFSETFROM:+0300
TZOFFSETTO:+0300
TZNAME:+03
END:STANDARD
END:VTIMEZONE
END:VCALENDAR