BEGIN:VCALENDAR
VERSION:2.0
PRODID:-//wp-events-plugin.com//6.4.6.4//EN
BEGIN:VEVENT
UID:626@bayhanmuzik.com
DTSTART;TZID=Europe/Istanbul:20260619T210000
DTEND;TZID=Europe/Istanbul:20260619T230000
DTSTAMP:20260223T135117Z
URL:https://www.bayhanmuzik.com/etkinlikler/funda-arar-kubat-senfonik-born
 ova-asik-veysel-acik-hava-tiyatrosu/
SUMMARY:Funda Arar & Kubat Senfonik | Bornova Aşık Veysel Açık Hava Tiy
 atrosu
DESCRIPTION:Funda Arar & Kubat Senfonik\, Bayhan Prodüksiyon organizasyonu
 yla 19 Haziran 2026 Cuma akşamı Bornova Aşık Veysel Açık Hava Tiyatr
 osu sevenleriyle buluşuyor. 
ATTACH;FMTTYPE=image/jpeg:https://www.bayhanmuzik.com/wp-content/uploads/2
 025/12/17122025160017-funda-kubat_passo_gorseli.jpg
CATEGORIES:Funda Arar,Kubat
END:VEVENT
BEGIN:VTIMEZONE
TZID:Europe/Istanbul
X-LIC-LOCATION:Europe/Istanbul
BEGIN:STANDARD
DTSTART:20250619T210000
TZOFFSETFROM:+0300
TZOFFSETTO:+0300
TZNAME:+03
END:STANDARD
END:VTIMEZONE
END:VCALENDAR