BEGIN:VCALENDAR
VERSION:2.0
PRODID:-//wp-events-plugin.com//6.4.6.4//EN
BEGIN:VEVENT
UID:572@bayhanmuzik.com
DTSTART;TZID=Europe/Istanbul:20260502T210000
DTEND;TZID=Europe/Istanbul:20260502T230000
DTSTAMP:20251231T104646Z
URL:https://www.bayhanmuzik.com/etkinlikler/funda-arar-kubat-senfonik-anta
 lya-acikhava/
SUMMARY:Funda Arar & Kubat Senfonik | Antalya Açıkhava
DESCRIPTION:Funda Arar & Kubat Senfonik\, Bayhan Müzik organizasyonuyla 2 
 Mayıs 2026 Cumartesi akşamı\, Antalya Açık Hava’da müzikseverlerle
  buluşacak. 
ATTACH;FMTTYPE=image/jpeg:https://www.bayhanmuzik.com/wp-content/uploads/2
 025/12/17122025160017-funda-kubat_passo_gorseli.jpg
CATEGORIES:Funda Arar,Kubat
END:VEVENT
BEGIN:VTIMEZONE
TZID:Europe/Istanbul
X-LIC-LOCATION:Europe/Istanbul
BEGIN:STANDARD
DTSTART:20250502T210000
TZOFFSETFROM:+0300
TZOFFSETTO:+0300
TZNAME:+03
END:STANDARD
END:VTIMEZONE
END:VCALENDAR