BEGIN:VCALENDAR
VERSION:2.0
PRODID:-//wp-events-plugin.com//6.4.6.4//EN
BEGIN:VEVENT
UID:596@bayhanmuzik.com
DTSTART;TZID=Europe/Istanbul:20260606T210000
DTEND;TZID=Europe/Istanbul:20260606T230000
DTSTAMP:20260309T143004Z
URL:https://www.bayhanmuzik.com/etkinlikler/fatma-turgut-adana-cukurova-un
 iversitesi-acik-hava-tiyatrosu/
SUMMARY:Fatma Turgut | Adana Çukurova Üniversitesi Açık Hava Tiyatrosu
DESCRIPTION:Fatma Turgut\, Bayhan Prodüksiyon organizasyonuyla 6 Haziran 2
 026 Cumartesi akşamı Adana Açık Hava Tiyatrosu’nda sevenleriyle bulu
 şuyor. 
ATTACH;FMTTYPE=image/jpeg:https://www.bayhanmuzik.com/wp-content/uploads/2
 026/01/15012026115718-ft_passo_gorseli.jpg
CATEGORIES:Fatma Turgut
END:VEVENT
BEGIN:VTIMEZONE
TZID:Europe/Istanbul
X-LIC-LOCATION:Europe/Istanbul
BEGIN:STANDARD
DTSTART:20250606T210000
TZOFFSETFROM:+0300
TZOFFSETTO:+0300
TZNAME:+03
END:STANDARD
END:VTIMEZONE
END:VCALENDAR