BEGIN:VCALENDAR
VERSION:2.0
PRODID:-//wp-events-plugin.com//6.4.6.4//EN
BEGIN:VEVENT
UID:667@bayhanmuzik.com
DTSTART;TZID=Europe/Istanbul:20260606T210000
DTEND;TZID=Europe/Istanbul:20260606T230000
DTSTAMP:20260412T110500Z
URL:https://www.bayhanmuzik.com/etkinlikler/dus-sokagi-sakinleri-diyarbaki
 r-sezai-karakoc-kultur-merkezi/
SUMMARY:Düş Sokağı Sakinleri | Diyarbakır Sezai Karakoç Kültür Merk
 ezi
DESCRIPTION:DÜŞ SOKAĞI SAKİNLERİ 25 YIL SONRA GERİ DÖNÜYOR!
ATTACH;FMTTYPE=image/jpeg:https://www.bayhanmuzik.com/wp-content/uploads/2
 026/04/DSS-passo.jpg
CATEGORIES:Düş Sokağı Sakinleri
END:VEVENT
BEGIN:VTIMEZONE
TZID:Europe/Istanbul
X-LIC-LOCATION:Europe/Istanbul
BEGIN:STANDARD
DTSTART:20250606T210000
TZOFFSETFROM:+0300
TZOFFSETTO:+0300
TZNAME:+03
END:STANDARD
END:VTIMEZONE
END:VCALENDAR