BEGIN:VCALENDAR
VERSION:2.0
PRODID:-//wp-events-plugin.com//6.4.6.4//EN
BEGIN:VEVENT
UID:669@bayhanmuzik.com
DTSTART;TZID=Europe/Istanbul:20260614T210000
DTEND;TZID=Europe/Istanbul:20260614T230000
DTSTAMP:20260412T111040Z
URL:https://www.bayhanmuzik.com/etkinlikler/dus-sokagi-sakinleri-adana-cuk
 urova-universitesi-acik-hava-tiyatrosu/
SUMMARY:Düş Sokağı Sakinleri | Adana Çukurova Üniversitesi Açık Hav
 a Tiyatrosu
DESCRIPTION:DÜŞ SOKAĞI SAKİNLERİ 25 YIL SONRA GERİ DÖNÜYOR!
ATTACH;FMTTYPE=image/jpeg:https://www.bayhanmuzik.com/wp-content/uploads/2
 026/04/DSS-passo.jpg
CATEGORIES:Düş Sokağı Sakinleri
END:VEVENT
BEGIN:VTIMEZONE
TZID:Europe/Istanbul
X-LIC-LOCATION:Europe/Istanbul
BEGIN:STANDARD
DTSTART:20250614T210000
TZOFFSETFROM:+0300
TZOFFSETTO:+0300
TZNAME:+03
END:STANDARD
END:VTIMEZONE
END:VCALENDAR