BEGIN:VCALENDAR
VERSION:2.0
PRODID:-//wp-events-plugin.com//6.4.6.4//EN
BEGIN:VEVENT
UID:608@bayhanmuzik.com
DTSTART;TZID=Europe/Istanbul:20260521T210000
DTEND;TZID=Europe/Istanbul:20260521T230000
DTSTAMP:20260123T115124Z
URL:https://www.bayhanmuzik.com/etkinlikler/derya-bedavaci-konya-selcuklu-
 kongre-merkezi/
SUMMARY:Derya Bedavacı | Konya Selçuklu Kongre Merkezi
DESCRIPTION:Derya Bedavacı\, Bayhan Prodüksiyon organizasyonuyla 21 Mayı
 s 2026 Perşembe akşamı Konya Selçuklu Kongre Merkezi’nde sevenleriyl
 e buluşuyor. 
ATTACH;FMTTYPE=image/jpeg:https://www.bayhanmuzik.com/wp-content/uploads/2
 026/01/22012026113623-derya_bedavaci_passo_gorseli_jpg.jpeg
CATEGORIES:Derya Bedavacı
END:VEVENT
BEGIN:VTIMEZONE
TZID:Europe/Istanbul
X-LIC-LOCATION:Europe/Istanbul
BEGIN:STANDARD
DTSTART:20250521T210000
TZOFFSETFROM:+0300
TZOFFSETTO:+0300
TZNAME:+03
END:STANDARD
END:VTIMEZONE
END:VCALENDAR