BEGIN:VCALENDAR
VERSION:2.0
PRODID:-//wp-events-plugin.com//6.4.6.4//EN
BEGIN:VEVENT
UID:605@bayhanmuzik.com
DTSTART;TZID=Europe/Istanbul:20260430T210000
DTEND;TZID=Europe/Istanbul:20260430T230000
DTSTAMP:20260123T113922Z
URL:https://www.bayhanmuzik.com/etkinlikler/derya-bedavaci-istanbul-bostan
 ci-gosteri-merkezi/
SUMMARY:Derya Bedavacı | İstanbul Bostancı Gösteri Merkezi
DESCRIPTION:Derya Bedavacı\, Bayhan Prodüksiyon organizasyonuyla 30 Nisan
  2026 Perşembe akşamı Bostancı Gösteri Merkezi’nde sahne alıyor. 
ATTACH;FMTTYPE=image/jpeg:https://www.bayhanmuzik.com/wp-content/uploads/2
 026/01/22012026113623-derya_bedavaci_passo_gorseli_jpg.jpeg
CATEGORIES:Derya Bedavacı
END:VEVENT
BEGIN:VTIMEZONE
TZID:Europe/Istanbul
X-LIC-LOCATION:Europe/Istanbul
BEGIN:STANDARD
DTSTART:20250430T210000
TZOFFSETFROM:+0300
TZOFFSETTO:+0300
TZNAME:+03
END:STANDARD
END:VTIMEZONE
END:VCALENDAR