BEGIN:VCALENDAR
VERSION:2.0
PRODID:-//wp-events-plugin.com//6.4.6.4//EN
BEGIN:VEVENT
UID:623@bayhanmuzik.com
DTSTART;TZID=Europe/Istanbul:20260613T210000
DTEND;TZID=Europe/Istanbul:20260613T230000
DTSTAMP:20260218T071935Z
URL:https://www.bayhanmuzik.com/etkinlikler/derya-bedavaci-denizli-acik-ha
 va-tiyatrosu/
SUMMARY:Derya Bedavacı | Denizli Açık Hava Tiyatrosu
DESCRIPTION:Derya Bedavacı\, Bayhan Prodüksiyon organizasyonuyla 13 Hazir
 an 2026 Cumartesi akşamı Denizli Açık Hava Tiyatrosu Sahnesi’nde sev
 enleriyle buluşuyor.
ATTACH;FMTTYPE=image/jpeg:https://www.bayhanmuzik.com/wp-content/uploads/2
 026/01/22012026113623-derya_bedavaci_passo_gorseli_jpg.jpeg
CATEGORIES:Derya Bedavacı
END:VEVENT
BEGIN:VTIMEZONE
TZID:Europe/Istanbul
X-LIC-LOCATION:Europe/Istanbul
BEGIN:STANDARD
DTSTART:20250613T210000
TZOFFSETFROM:+0300
TZOFFSETTO:+0300
TZNAME:+03
END:STANDARD
END:VTIMEZONE
END:VCALENDAR