BEGIN:VCALENDAR
VERSION:2.0
PRODID:-//wp-events-plugin.com//6.4.6.4//EN
BEGIN:VEVENT
UID:615@bayhanmuzik.com
DTSTART;TZID=Europe/Istanbul:20260430T210000
DTEND;TZID=Europe/Istanbul:20260430T230000
DTSTAMP:20260212T095423Z
URL:https://www.bayhanmuzik.com/etkinlikler/askin-nur-yengi-senfonik-ankar
 a-congresium/
SUMMARY:Aşkın Nur Yengi Senfonik | Ankara Congresium
DESCRIPTION:Türk pop müziğinin güçlü sesi Aşkın Nur Yengi\, büyük
  ilgi gören “Aşkın Nur Yengi Senfonik” projesiyle 2026’da da Tür
 kiye turnesine çıkıyor.
ATTACH;FMTTYPE=image/jpeg:https://www.bayhanmuzik.com/wp-content/uploads/2
 026/02/09022026170959-any_passo_gorseli.jpg
CATEGORIES:Aşkın Nur Yengi
END:VEVENT
BEGIN:VTIMEZONE
TZID:Europe/Istanbul
X-LIC-LOCATION:Europe/Istanbul
BEGIN:STANDARD
DTSTART:20250430T210000
TZOFFSETFROM:+0300
TZOFFSETTO:+0300
TZNAME:+03
END:STANDARD
END:VTIMEZONE
END:VCALENDAR